BEGIN:VCALENDAR
VERSION:2.0
PRODID:-//Zimbabwe National Defence University
CALSCALE:GREGORIAN
METHOD:PUBLISH
X-WR-CALNAME:Zimbabwe National Defence University
X-ORIGINAL-URL:https://www.zndu.ac.zw/event/zimbabwe-library-association-conference/
X-WR-CALDESC:Zimbabwe Library Association Conference
BEGIN:VEVENT
DTSTART:20210601T080000
DTEND:20210601T160000
SUMMARY:Zimbabwe Library Association Conference
DESCRIPTION:
LOCATION:
END:VEVENT
END:VCALENDAR
