BEGIN:VCALENDAR
VERSION:2.0
PRODID:-//Zimbabwe National Defence University
CALSCALE:GREGORIAN
METHOD:PUBLISH
X-WR-CALNAME:Zimbabwe National Defence University
X-ORIGINAL-URL:https://www.zndu.ac.zw/event/zndu-energy-security-symposium/
X-WR-CALDESC:ZNDU Energy Security Symposium
BEGIN:VEVENT
DTSTART:20230628T080000
DTEND:20230701T170000
SUMMARY:ZNDU Energy Security Symposium
DESCRIPTION:
LOCATION:Holiday Inn, Mutare
END:VEVENT
END:VCALENDAR
