BEGIN:VCALENDAR
VERSION:2.0
PRODID:-//Zimbabwe National Defence University
CALSCALE:GREGORIAN
METHOD:PUBLISH
X-WR-CALNAME:Zimbabwe National Defence University
X-ORIGINAL-URL:https://www.zndu.ac.zw/event/examinations/
X-WR-CALDESC:Examinations
BEGIN:VEVENT
DTSTART:20221121T000000
DTEND:20221202T000000
SUMMARY:Examinations
DESCRIPTION:
LOCATION:
END:VEVENT
END:VCALENDAR
